BEGIN:VCALENDAR
PRODID:Nexudus
VERSION:2.0
BEGIN:VTIMEZONE
TZID:America/Los_Angeles
X-LIC-LOCATION:America/Los_Angeles
BEGIN:STANDARD
DTSTART:20241103T020000
RRULE:FREQ=YEARLY;BYDAY=1SU;BYMONTH=11
TZNAME:PST
TZOFFSETFROM:-0700
TZOFFSETTO:-0800
END:STANDARD
BEGIN:DAYLIGHT
DTSTART:20250309T020000
RRULE:FREQ=YEARLY;BYDAY=2SU;BYMONTH=3
TZNAME:PDT
TZOFFSETFROM:-0800
TZOFFSETTO:-0700
END:DAYLIGHT
END:VTIMEZONE
BEGIN:VEVENT
DESCRIPTION:\nEvent link: https://embark.spaces.nexudus.com/en/events/view/
 1415227222/women-s-nutrition-series-with-carlyn-young--rd\n
DTEND;TZID=America/Los_Angeles:20230601T193000
DTSTAMP:20260422T194245Z
DTSTART;TZID=America/Los_Angeles:20230601T183000
LOCATION:The Embark Coworking Community – The Collective Community Room
SEQUENCE:0
SUMMARY:Women's Nutrition Series with Carlyn Young\, RD
UID:a4e9c09d-63ff-45a8-8869-89a5b9625862
END:VEVENT
END:VCALENDAR
